BEGIN:VCALENDAR
VERSION:2.0
PRODID:-//Encinitas Karate - ECPv6.15.17.1//NONSGML v1.0//EN
CALSCALE:GREGORIAN
METHOD:PUBLISH
X-WR-CALNAME:Encinitas Karate
X-ORIGINAL-URL:https://encinitaskarate.com
X-WR-CALDESC:Events for Encinitas Karate
REFRESH-INTERVAL;VALUE=DURATION:PT1H
X-Robots-Tag:noindex
X-PUBLISHED-TTL:PT1H
BEGIN:VTIMEZONE
TZID:UTC
BEGIN:STANDARD
TZOFFSETFROM:+0000
TZOFFSETTO:+0000
TZNAME:UTC
DTSTART:20220101T000000
END:STANDARD
END:VTIMEZONE
BEGIN:VEVENT
DTSTART;VALUE=DATE:20231220
DTEND;VALUE=DATE:20240102
DTSTAMP:20260422T012514
CREATED:20231214T005400Z
LAST-MODIFIED:20231214T005400Z
UID:983-1703030400-1704153599@encinitaskarate.com
SUMMARY:Closed for the Holidays
DESCRIPTION:We will be closed on Wednesday\, December 20th- Monday January 1st for the holidays. Regular classes will resume on Tuesday\, January 2nd.\n\n\nHave a great Holiday and see you in the new year!
URL:https://encinitaskarate.com/event/closed-for-the-holidays/
LOCATION:Encinitas Karate
END:VEVENT
BEGIN:VEVENT
DTSTART;TZID=UTC:20231120T080000
DTEND;TZID=UTC:20231122T150000
DTSTAMP:20260422T012514
CREATED:20230911T225845Z
LAST-MODIFIED:20230911T231303Z
UID:871-1700467200-1700665200@encinitaskarate.com
SUMMARY:3 Day- Smash Bros Camp
DESCRIPTION:1323 Encinitas Blvd\, Encinitas\, CA 92024\, USA\n\nLaser tag\nPopper Tag\nNintendo Smash Bros Battle\nSpike Ball\nSuper Mario Art and Craft\nSecret Hidden Hunt Items\nMarble run Lego Challenges\nBuild Bowser Fortress\nWed Maze Holiday handmade arts and crafts Outdoor Park Day Extended Camp Before and After Camp Hours Available this week. We provide an excellent before and after camp experience that provides a 10 to 1 ratio with experienced camp counselors. Campers will be allowed to attend late afternoon martial arts classes (voluntary)\, daily dodgeball challenges\, Nintendo Switch Competitions\, Movies\, create with arts and crafts we will provide\, games and much more. Sample our extensive library for some summer reading. Monitored laptops are also available for research and study. Before and After Camp is at an additional cost and can be purchased by emailing us at encinitaskarate@gmail.com or call/text us at 760-635-3699.
URL:https://encinitaskarate.com/event/3-day-smash-bros-camp/
END:VEVENT
BEGIN:VEVENT
DTSTART;TZID=UTC:20231118T170000
DTEND;TZID=UTC:20231118T203000
DTSTAMP:20260422T012514
CREATED:20231104T182646Z
LAST-MODIFIED:20231104T182646Z
UID:965-1700326800-1700339400@encinitaskarate.com
SUMMARY:Game Night/ Parents Night out
DESCRIPTION:Parents – need a night off? We think you deserve it! That’s why we have a Game Night coming up on November 18th!\n\nDrop off the kids with us from 5:00pm to 8:30pm and enjoy an evening to yourselves while we play games\, laser tag\, nintendo switch\, and more! Please see the flyer below for more information and remember\, spaces are limited!!
URL:https://encinitaskarate.com/event/game-night-parents-night-out/
LOCATION:Encinitas Karate
END:VEVENT
BEGIN:VEVENT
DTSTART;TZID=UTC:20231028T090000
DTEND;TZID=UTC:20231028T113000
DTSTAMP:20260422T012514
CREATED:20231004T225824Z
LAST-MODIFIED:20231004T225824Z
UID:948-1698483600-1698492600@encinitaskarate.com
SUMMARY:Haunted Castle: HALLOWEEN PARTY
DESCRIPTION:You’re invited to our Haunted Castle Halloween Party!!\nFun for ALL family and friends such as:\nCostume contests\nMummy wrapping competition\nAnd much much more!!\n\nRSVP here so we know you’re coming \n\nSee you there 
URL:https://encinitaskarate.com/event/haunted-castle-halloween-party/
LOCATION:Encinitas Karate
END:VEVENT
BEGIN:VEVENT
DTSTART;TZID=UTC:20231023T080000
DTEND;TZID=UTC:20231027T150000
DTSTAMP:20260422T012514
CREATED:20230911T225709Z
LAST-MODIFIED:20230911T230926Z
UID:869-1698048000-1698418800@encinitaskarate.com
SUMMARY:Haunted Castle Camp
DESCRIPTION:1323 Encinitas Blvd\, Encinitas\, CA 92024\, USA\n\nGiant Haunted Castle Building\nDecode Secret Messages\nNintendo\nGlow in the Dark Dodgeball\nPotions/ Slime and creepy crawler making\nSpooky Laser Tag\nSpider Maze Halloween Crafts\nOutdoor Park Days Extended Camp Before and After Camp Hours Available this week. We provide an excellent before and after camp experience that provides a 10 to 1 ratio with experienced camp counselors. Campers will be allowed to attend late afternoon martial arts classes (voluntary)\, daily dodgeball challenges\, Nintendo Switch Competitions\, Movies\, create with arts and crafts we will provide\, games and much more. Sample our extensive library for some summer reading. Monitored laptops are also available for research and study. Before and After Camp is at an additional cost and can be purchased by emailing us at encinitaskarate@gmail.com or call/text us at 760-635-3699.
URL:https://encinitaskarate.com/event/haunted-castle-camp/
LOCATION:Encinitas Karate
END:VEVENT
BEGIN:VEVENT
DTSTART;TZID=UTC:20230930T170000
DTEND;TZID=UTC:20230930T203000
DTSTAMP:20260422T012514
CREATED:20230928T230938Z
LAST-MODIFIED:20230928T230938Z
UID:941-1696093200-1696105800@encinitaskarate.com
SUMMARY:Parents Night Out/Game Night
DESCRIPTION:Parents – need a night off? We think you deserve it! That’s why we have a Game Night coming up on September 30th!\n\nDrop off the kids with us from 5:00pm to 8:30pm and enjoy an evening to yourselves while we play games\, laser tag\, nintendo switch\, and more! Please see the flyer below for more information and remember\, spaces are limited!!
URL:https://encinitaskarate.com/event/parents-night-out-game-night/
LOCATION:Encinitas Karate
END:VEVENT
BEGIN:VEVENT
DTSTART;VALUE=DATE:20230508
DTEND;VALUE=DATE:20230514
DTSTAMP:20260422T012514
CREATED:20230424T043907Z
LAST-MODIFIED:20230505T195609Z
UID:772-1683504000-1684022399@encinitaskarate.com
SUMMARY:Summer Sizzle
DESCRIPTION:https://encinitaskarate.com/wp-content/uploads/2023/04/ripl_video_1682289219960.mp4\nSummer Sizzle Summer Party!\n\n\nMonday\, May 8th through Saturday\, May 13th – Classes\, Prizes\, Camp Sale\, Games and More!\nJoin us for our annual Summer Sizzle Party that will help us kick off to a great summer! Received an invitation? RSVP Below and we will let our Encinitas Karate student know you are coming! If you did not receive an invitation but would like to come to our event\, feel free to RSVP below and enter your EK Student Buddy as “Miss K” We will take care of you!\n\nPlease note that our Saturday classes on the 13th will include refreshments for all and Mother’s Day flowers. We appreciate your RSVP below – it will help us with a count for food and supplies.\n\nAny questions? Call or text us at 760-635-3699.\n\n\nSummer Martial Arts Package starts Now!\n \n\nGet a free week of classes to try us out! After that\, join us for our 3 month summer special of unlimited classes at just $399 – includes T shirt. Traveling this summer? You can also take advantage of our one month special of unlimited classes for just $149. Give us a call or text at 760-635-3699.\n\n\n\n\n\n\n\nSummer Sizzle Registration\nSummer Sizzle Registration\nMay 6th through May 11th Our Summer Sizzle Event for All Classes. Camp Sale for full weeks and day only.  Enjoy martial arts\, games\, prizes\, discounts and more.  On Saturday May 11th we will have refreshments for all classes as well as flowers for Mother's Day.  Please contact us if you need additional assistance.  \n\n\n\n\n\n\n\n    Guardian Name\n        *\n    \n    \n	\n		Guardian Name	\n\n	\n					\n				\n					First				\n\n				First			\n						\n				\n					Last				\n\n				Last			\n				\n\n\n    \n    \n\n\n    Phone\n        *\n    \n    \n    \n    \n\n\n    Email\n        *\n    \n    \n    \n    \n\n\n    List the Encinitas Karate Student Buddy Name who invited you.  \n        *\n    \n    \n	\n		List the Encinitas Karate Student Buddy Name who invited you.  	\n\n	\n					\n				\n					First				\n\n				First			\n						\n				\n					Last				\n\n				Last			\n				\n\n\n    \n    \n\n\n    List Names of Participants\, Ages\, Preferred Class times (see below)\, Comments and Questions.\n        *\n    \n    \n    \n    \n\n\n \n\n\n    I understand that for safety reasons\, I will need to check in at the front desk before designated class time.\n        *\n    \n    					\n			 I understand and will arrive 10 min before class time\n					\n			 I don't understand and will not attend\n\n    \n    \n\n\n    Encinitas Karate doesn't spam.  Contact Info is only used to communicate the event info.  Please check if you would like us to contact you on: \n        \n    \n    					\n			 Summer Camp Discounts\n					\n			 Summer Martial Arts Program\n					\n			 Parent Night Out\n					\n			 After School Program for 2024/2025\n\n    \n    \n\n\n    reCAPTCHA\n        \n    \n    \n    \n    \n\n\n	\n\nSubmit\n\n\n\n\n	\n			\n			\n				If you are human\, leave this field blank.
URL:https://encinitaskarate.com/event/summersizzle/
LOCATION:Encinitas Karate
ORGANIZER;CN="Miss K":MAILTO:encinitaskarate@gmail.com
END:VEVENT
BEGIN:VEVENT
DTSTART;TZID=UTC:20230408T083000
DTEND;TZID=UTC:20230408T110000
DTSTAMP:20260422T012514
CREATED:20230402T222631Z
LAST-MODIFIED:20230402T223429Z
UID:738-1680942600-1680951600@encinitaskarate.com
SUMMARY:Spring Into Summer Egg Hunt!
DESCRIPTION:https://encinitaskarate.com/wp-content/uploads/2023/04/ripl_video_1680451629748.mp4 \nThis event is open to students\, family\, friends and the public. \nJoin us this Saturday\, April 8th for some refreshments\, fun\, martial arts and egg hunts!  We will also provide an egg decorating station for kids to decorate their own plastic eggs to take home.  We will have goody bags\, toy surprises and more.  We will also be providing a ONE DAY ONLY Summer Camp Sale.  Each camp is just $399!  For those that have already signed up for some of our spring and summer camps of 2023\, you will get an additional savings for any new camps booked on this day. \nEncinitas Karate Students \nStudents\, note that for this day only\, save 15% off of all equipment (staff\, nunchucks\, swords\, sai)  and $15 off of school uniforms.  See Miss K for details when you come in. \nStudents\, Buddies and new friends\, PLEASE RSVP SO WE CAN GET AN ACCURATE COUNT FOR REFRESHMENTS – THANK YOU! \nTo help us get an accurate count for beverages and food\, please fill out the RSVP below to let us know if you are coming.  If you can’t make it\, but would like to get the special one day summer camp deal\, please fill out the form and let us know so that we can send you the special discount code.  Discount ends at midnight on April 8th. \nAll ONLINE RSVPS WIL BE ENTERED INTO A CHANCE TO WIN AN ENCINITAS KARATE PRIZE! \nSchedule for Saturday\, April 8th: \n\n8:30 to 9:10 am – Beginners Martial Arts Class Ages 7 to 12\, Egg Hunt\n9:15-10 am – Intermediate-Advanced Martial Arts Classes Ages 7 to 12\, Egg Hunt\n10- to 10:30 am Martial Arts Class for Ages 4 to 6\, Egg Hunt\n10:30-11 am Martial Arts Class for Ages 4 to 6\, Egg Hunt\n\n\n\n\n\nRSVP Egg Hunt April 8th\nRSVP Egg Hunt April 8th\n\n\n\n\n\n\n\n    Guardian Name\n        \n    \n    \n	\n		Guardian Name	\n\n	\n					\n				\n					First				\n\n				First			\n						\n				\n					Last				\n\n				Last			\n				\n\n\n    \n    \n\n\n    Phone\n        \n    \n    \n    \n    \n\n\n    Email\n        \n    \n    \n    \n    \n\n\n    Checkboxes\n        *\n    \n    					\n			 EK Student\n					\n			 Friend\n\n    \n    \n\n\n    Number of people in your party\n        \n    \n    \n    \n    \n\n\n    Check the class time(s) you want to attend class and egg hunt\n        \n    \n    					\n			 8:30 am Beginners Ages 7-12\n					\n			 9:15 am Intermediate-Adv Ages 7-12\n					\n			 10-10:30 am Ages 4-610-10:30 am Ages 4-6\n					\n			 10:30-11 am Ages 4 to 610:30-11 am Ages 4 to 6\n\n    \n    \n\n\n    Who Invited you to our event\n        \n    \n    \n    \n    \n\n\n    Let us know participants names and ages and if we can assist you with any questions you may have.  If you can't attend\, let us know here so we can send you your camp discount info.\n        \n    \n    \n    \n    \n\n\n    We don't spam.  We will send you an email or text about this event as a reminder of if anything changes.  If you say yes\, you will get periodic updates on our camps\, special events or classes.\n        \n    \n    					\n			 yes\, i will subscribe thank you!\n					\n			 no\, i won't subscribe at this time but understand i might get notifications just for this event only.\n\n    \n    \n\n\n    Captcha\n        \n    \n    \n    \n    \n\n	\n			\n			\n				If you are human\, leave this field blank.			\n			\n		\n		\n\nSubmit
URL:https://encinitaskarate.com/event/spring-into-summer-egg-hunt/
LOCATION:Encinitas Karate
ORGANIZER;CN="Miss K":MAILTO:encinitaskarate@gmail.com
END:VEVENT
END:VCALENDAR