BEGIN:VCALENDAR
VERSION:2.0
PRODID:-//Encinitas Karate - ECPv6.15.17.1//NONSGML v1.0//EN
CALSCALE:GREGORIAN
METHOD:PUBLISH
X-WR-CALNAME:Encinitas Karate
X-ORIGINAL-URL:https://encinitaskarate.com
X-WR-CALDESC:Events for Encinitas Karate
REFRESH-INTERVAL;VALUE=DURATION:PT1H
X-Robots-Tag:noindex
X-PUBLISHED-TTL:PT1H
BEGIN:VTIMEZONE
TZID:UTC
BEGIN:STANDARD
TZOFFSETFROM:+0000
TZOFFSETTO:+0000
TZNAME:UTC
DTSTART:20220101T000000
END:STANDARD
END:VTIMEZONE
BEGIN:VEVENT
DTSTART;TZID=UTC:20230408T083000
DTEND;TZID=UTC:20230408T110000
DTSTAMP:20260422T012440
CREATED:20230402T222631Z
LAST-MODIFIED:20230402T223429Z
UID:738-1680942600-1680951600@encinitaskarate.com
SUMMARY:Spring Into Summer Egg Hunt!
DESCRIPTION:https://encinitaskarate.com/wp-content/uploads/2023/04/ripl_video_1680451629748.mp4\nThis event is open to students\, family\, friends and the public. \nJoin us this Saturday\, April 8th for some refreshments\, fun\, martial arts and egg hunts!  We will also provide an egg decorating station for kids to decorate their own plastic eggs to take home.  We will have goody bags\, toy surprises and more.  We will also be providing a ONE DAY ONLY Summer Camp Sale.  Each camp is just $399!  For those that have already signed up for some of our spring and summer camps of 2023\, you will get an additional savings for any new camps booked on this day. \nEncinitas Karate Students \nStudents\, note that for this day only\, save 15% off of all equipment (staff\, nunchucks\, swords\, sai)  and $15 off of school uniforms.  See Miss K for details when you come in. \nStudents\, Buddies and new friends\, PLEASE RSVP SO WE CAN GET AN ACCURATE COUNT FOR REFRESHMENTS – THANK YOU! \nTo help us get an accurate count for beverages and food\, please fill out the RSVP below to let us know if you are coming.  If you can’t make it\, but would like to get the special one day summer camp deal\, please fill out the form and let us know so that we can send you the special discount code.  Discount ends at midnight on April 8th. \nAll ONLINE RSVPS WIL BE ENTERED INTO A CHANCE TO WIN AN ENCINITAS KARATE PRIZE! \nSchedule for Saturday\, April 8th: \n\n8:30 to 9:10 am – Beginners Martial Arts Class Ages 7 to 12\, Egg Hunt\n9:15-10 am – Intermediate-Advanced Martial Arts Classes Ages 7 to 12\, Egg Hunt\n10- to 10:30 am Martial Arts Class for Ages 4 to 6\, Egg Hunt\n10:30-11 am Martial Arts Class for Ages 4 to 6\, Egg Hunt\n\n\n\n\n\nRSVP Egg Hunt April 8th\nRSVP Egg Hunt April 8th\n\n\n\n\n\n\n\n    Guardian Name\n        \n    \n    \n	\n		Guardian Name	\n\n	\n					\n				\n					First				\n\n				First			\n						\n				\n					Last				\n\n				Last			\n				\n\n\n    \n    \n\n\n    Phone\n        \n    \n    \n    \n    \n\n\n    Email\n        \n    \n    \n    \n    \n\n\n    Checkboxes\n        *\n    \n    					\n			 EK Student\n					\n			 Friend\n\n    \n    \n\n\n    Number of people in your party\n        \n    \n    \n    \n    \n\n\n    Check the class time(s) you want to attend class and egg hunt\n        \n    \n    					\n			 8:30 am Beginners Ages 7-12\n					\n			 9:15 am Intermediate-Adv Ages 7-12\n					\n			 10-10:30 am Ages 4-610-10:30 am Ages 4-6\n					\n			 10:30-11 am Ages 4 to 610:30-11 am Ages 4 to 6\n\n    \n    \n\n\n    Who Invited you to our event\n        \n    \n    \n    \n    \n\n\n    Let us know participants names and ages and if we can assist you with any questions you may have.  If you can't attend\, let us know here so we can send you your camp discount info.\n        \n    \n    \n    \n    \n\n\n    We don't spam.  We will send you an email or text about this event as a reminder of if anything changes.  If you say yes\, you will get periodic updates on our camps\, special events or classes.\n        \n    \n    					\n			 yes\, i will subscribe thank you!\n					\n			 no\, i won't subscribe at this time but understand i might get notifications just for this event only.\n\n    \n    \n\n\n    Captcha\n        \n    \n    \n    \n    \n\n	\n			\n			\n				If you are human\, leave this field blank.			\n			\n		\n		\n\nSubmit
URL:https://encinitaskarate.com/event/spring-into-summer-egg-hunt/
LOCATION:Encinitas Karate
ORGANIZER;CN="Miss K":MAILTO:encinitaskarate@gmail.com
END:VEVENT
END:VCALENDAR