BEGIN:VCALENDAR
VERSION:2.0
PRODID:-//Encinitas Karate - ECPv6.15.17.1//NONSGML v1.0//EN
CALSCALE:GREGORIAN
METHOD:PUBLISH
X-ORIGINAL-URL:https://encinitaskarate.com
X-WR-CALDESC:Events for Encinitas Karate
REFRESH-INTERVAL;VALUE=DURATION:PT1H
X-Robots-Tag:noindex
X-PUBLISHED-TTL:PT1H
BEGIN:VTIMEZONE
TZID:UTC
BEGIN:STANDARD
TZOFFSETFROM:+0000
TZOFFSETTO:+0000
TZNAME:UTC
DTSTART:20250101T000000
END:STANDARD
END:VTIMEZONE
BEGIN:VEVENT
DTSTART;TZID=UTC:20260713T090000
DTEND;TZID=UTC:20260717T150000
DTSTAMP:20260421T164718
CREATED:20260306T042218Z
LAST-MODIFIED:20260310T220649Z
UID:2554-1783933200-1784300400@encinitaskarate.com
SUMMARY:Galaxy Guardians Jedi Camp Encinitas 2026 (Ages 4–12)
DESCRIPTION:Encinitas Karate’s Galaxy Guardians Jedi Camp Encinitas 2026 is an exciting space-themed summer camp for kids ages 4–12 in Encinitas\, CA. This high-energy North County San Diego camp includes foam light saber training\, laser tag battles\, Lego galaxy builds\, obstacle course challenges\, and supervised park days at Oak Crest Park. Families from Encinitas\, Carlsbad\, San Elijo Hills\, and surrounding communities love this imaginative camp for its mix of teamwork\, creativity\, fitness\, and summer adventure. \n👉 Register here: \nTo see current sales and full listing of our spring and summer camp information\, click here: \nGalactic Ninja and Fang mascot at Galaxy Guardians Jedi Camp Encinitas 2026
URL:https://encinitaskarate.com/event/galaxy-guardians-jedi-camp-encinitas-2026-ages-4-12/
LOCATION:Encinitas Karate
CATEGORIES:Camps
ATTACH;FMTTYPE=image/png:https://encinitaskarate.com/wp-content/uploads/2026/03/ChatGPT-Image-Mar-5-2026-08_16_11-PM.png
END:VEVENT
BEGIN:VEVENT
DTSTART;TZID=UTC:20260720T090000
DTEND;TZID=UTC:20260724T150000
DTSTAMP:20260421T164718
CREATED:20260306T043518Z
LAST-MODIFIED:20260306T043542Z
UID:2561-1784538000-1784905200@encinitaskarate.com
SUMMARY:Karate Quest Warrior Survival Camp Encinitas 2026 (Ages 4–12)
DESCRIPTION:Encinitas Karate’s Karate Quest Warrior Survival Camp Encinitas 2026 is an exciting summer adventure camp for kids ages 4–12 in Encinitas\, CA. This North County San Diego camp combines martial arts training\, obstacle course challenges\, fort building\, laser tag missions\, teamwork games\, and supervised park days at Oak Crest Park. Families from Encinitas\, Carlsbad\, San Elijo Hills\, and surrounding communities love this camp for its mix of confidence building\, creativity\, fitness\, and outdoor adventure. \n👉 Register here: \nTo see current sales and full listing of our spring and summer camp information\, click here: \nSteelwood Ninja and Leaf mascot at Karate Quest Warrior Survival Camp Encinitas 2026
URL:https://encinitaskarate.com/event/karate-quest-warrior-survival-camp-encinitas-2026-ages-4-12/
LOCATION:Encinitas Karate
CATEGORIES:Camps
ATTACH;FMTTYPE=image/png:https://encinitaskarate.com/wp-content/uploads/2026/03/file_000000000d3471fd878ee39321465b1b.png
END:VEVENT
BEGIN:VEVENT
DTSTART;TZID=UTC:20260727T090000
DTEND;TZID=UTC:20260731T150000
DTSTAMP:20260421T164718
CREATED:20260306T044934Z
LAST-MODIFIED:20260306T044934Z
UID:2569-1785142800-1785510000@encinitaskarate.com
SUMMARY:Time Travel Academy Camp Encinitas 2026 (Ages 4–12)
DESCRIPTION:Encinitas Karate’s Time Travel Academy Camp Encinitas 2026 is a creative summer adventure camp for kids ages 4–12 in Encinitas\, CA. This exciting North County San Diego camp sends campers on imaginative journeys through ancient civilizations and futuristic worlds with treasure hunts\, building challenges\, laser tag missions\, teamwork games\, and supervised park days at Oak Crest Park. Families from Encinitas\, Carlsbad\, San Elijo Hills\, and surrounding communities love this camp for its mix of creativity\, teamwork\, fitness\, and summer fun. \n👉 Register here: \nTo see current sales and full listing of our spring and summer camp information\, click here: \nClockwind Ninja and Switch mascot at Time Travel Academy Camp Encinitas 2026
URL:https://encinitaskarate.com/event/time-travel-academy-camp-encinitas-2026-ages-4-12/
LOCATION:Encinitas Karate
CATEGORIES:Camps
ATTACH;FMTTYPE=image/png:https://encinitaskarate.com/wp-content/uploads/2026/03/file_00000000aebc722fa78411f3f1fa8d14.png
END:VEVENT
BEGIN:VEVENT
DTSTART;TZID=UTC:20260803T090000
DTEND;TZID=UTC:20260807T150000
DTSTAMP:20260421T164718
CREATED:20260306T045906Z
LAST-MODIFIED:20260306T045906Z
UID:2576-1785747600-1786114800@encinitaskarate.com
SUMMARY:Bash and Smash Gamers Camp Encinitas 2026 (Ages 4–12)
DESCRIPTION:Encinitas Karate’s Bash and Smash Gamers Camp Encinitas 2026 is a high-energy summer camp for kids ages 4–12 in Encinitas\, CA. This North County San Diego camp blends Nintendo gaming tournaments\, laser tag battles\, building challenges\, obstacle courses\, teamwork games\, and supervised park days at Oak Crest Park. Families from Encinitas\, Carlsbad\, San Elijo Hills\, and surrounding communities love this camp for its mix of gaming fun\, physical activity\, teamwork\, and exciting end-of-summer adventures. \n👉 Register here: \nTo see current sales and full listing of our spring and summer camp information\, click here: \nMechanex Ninja and Alfie the Raccoon mascot at Bash and Smash Gamers Camp Encinitas 2026
URL:https://encinitaskarate.com/event/bash-and-smash-gamers-camp-encinitas-2026-ages-4-12/
LOCATION:Encinitas Karate
CATEGORIES:Camps
ATTACH;FMTTYPE=image/png:https://encinitaskarate.com/wp-content/uploads/2026/03/file_00000000183071f8af3fa8dc2e122a3d.png
END:VEVENT
END:VCALENDAR