BEGIN:VCALENDAR
VERSION:2.0
PRODID:-//Encinitas Karate - ECPv6.15.17.1//NONSGML v1.0//EN
CALSCALE:GREGORIAN
METHOD:PUBLISH
X-WR-CALNAME:Encinitas Karate
X-ORIGINAL-URL:https://encinitaskarate.com
X-WR-CALDESC:Events for Encinitas Karate
REFRESH-INTERVAL;VALUE=DURATION:PT1H
X-Robots-Tag:noindex
X-PUBLISHED-TTL:PT1H
BEGIN:VTIMEZONE
TZID:UTC
BEGIN:STANDARD
TZOFFSETFROM:+0000
TZOFFSETTO:+0000
TZNAME:UTC
DTSTART:20250101T000000
END:STANDARD
END:VTIMEZONE
BEGIN:VEVENT
DTSTART;TZID=UTC:20260323T090000
DTEND;TZID=UTC:20260327T150000
DTSTAMP:20260421T162333
CREATED:20260301T205641Z
LAST-MODIFIED:20260307T024724Z
UID:2419-1774256400-1774623600@encinitaskarate.com
SUMMARY:Minecraft Spring Break Camp Encinitas 2026 (Ages 4–12)
DESCRIPTION:Minecraft Spring Break Camp Encinitas 2026 is a high-energy themed camp designed for kids ages 4–12 who love creativity\, teamwork\, and active play. This popular North County San Diego spring camp blends Minecraft-inspired building challenges\, laser tag\, slime labs\, obstacle courses\, dodgeball\, and supervised park days at Oak Crest Park. Families from Encinitas\, Carlsbad\, San Elijo Hills\, and surrounding communities choose this engaging spring break camp every year for its balance of fitness\, fun\, and confidence-building activities. \n👉 Register here:https://encinitaskarate.sites.zenplanner.com/sign-up-now.cfm?display=MBRSHPS&categoryId=9D7EB5E4-9948-4FA9-9128-1BEFBC08E7D0& \nTo See current sales and full listing of our spring and summer camp information\, click here \nPixel Blade Ninja with Mascot of Pixel Fox \, Pix. Minecraft Spring Break Camp Encinitas 2026
URL:https://encinitaskarate.com/event/minecraft-spring-break-camp-encinitas-2026-ages-4-12/
LOCATION:Encinitas Karate
CATEGORIES:Camps
ATTACH;FMTTYPE=image/png:https://encinitaskarate.com/wp-content/uploads/2026/03/file_000000001e80722f988c50259fea4bb4.png
END:VEVENT
END:VCALENDAR