BEGIN:VCALENDAR
VERSION:2.0
PRODID:-//Encinitas Karate - ECPv6.15.17.1//NONSGML v1.0//EN
CALSCALE:GREGORIAN
METHOD:PUBLISH
X-WR-CALNAME:Encinitas Karate
X-ORIGINAL-URL:https://encinitaskarate.com
X-WR-CALDESC:Events for Encinitas Karate
REFRESH-INTERVAL;VALUE=DURATION:PT1H
X-Robots-Tag:noindex
X-PUBLISHED-TTL:PT1H
BEGIN:VTIMEZONE
TZID:UTC
BEGIN:STANDARD
TZOFFSETFROM:+0000
TZOFFSETTO:+0000
TZNAME:UTC
DTSTART:20250101T000000
END:STANDARD
END:VTIMEZONE
BEGIN:VEVENT
DTSTART;TZID=UTC:20260221T090000
DTEND;TZID=UTC:20260221T140000
DTSTAMP:20260421T161733
CREATED:20260214T234829Z
LAST-MODIFIED:20260214T235524Z
UID:2340-1771664400-1771682400@encinitaskarate.com
SUMMARY:Encinitas Spring and Summer Camp Sale
DESCRIPTION:Encinitas Spring and Summer Camp Open House\nEncinitas Spring and Summer Camp Sale Open House.  Choose from 11 theme based camps. \nEncinitas Spring and Summer Camp Sale Open House – 40% Off\nSaturday\, February 21 | 9:00 AM – 2:00 PM\nJoin us at Encinitas Karate for our Encinitas Spring and Summer Camp Sale Open House and explore all 11 themed camps for 2026. \nThis is the biggest camp sale of the year — families can save 40% off retail pricing. \n\n💥 Open House Pricing Options at our Encinitas Spring and Summer Camp Sale Day Event\nIn Person (Feb 21 only): \n\n\nPurchase a full week for $349 \n\n\nOR secure your spot with just a $60 deposit (balance paid later) \n\n\nOnline Option (Feb 21 only): \n\n\n$349 sale price available all day \n\n\nOnline sale runs until midnight \n\n\n👉 Event details & RSVP:https://encinitaskarate.com/encinitas-camp-open-house/ \n\nWhat to Expect\n✔ Preview all 11 camp themes✔ Meet instructors✔ Learn about our indoor + outdoor camp format✔ Ask questions about our Before & After Camp Program✔ Enter our Open House prize drawings \nWe encourage families to RSVP in advance so we can prepare accurate supplies and include you in our giveaways. \nEncinitas Camp Open House \n \n\n📍 1323 Encinitas Blvd\, Encinitas (next to Sprouts)📞 760-635-3699 \nTo book our camps online click here \n 
URL:https://encinitaskarate.com/event/encinitas-spring-and-summer-camp-sale/
LOCATION:Encinitas Karate
CATEGORIES:Camps
ATTACH;FMTTYPE=image/jpeg:https://encinitaskarate.com/wp-content/uploads/2026/02/1769816589736.jpg
END:VEVENT
END:VCALENDAR