BEGIN:VCALENDAR
VERSION:2.0
PRODID:-//Encinitas Karate - ECPv6.15.17.1//NONSGML v1.0//EN
CALSCALE:GREGORIAN
METHOD:PUBLISH
X-WR-CALNAME:Encinitas Karate
X-ORIGINAL-URL:https://encinitaskarate.com
X-WR-CALDESC:Events for Encinitas Karate
REFRESH-INTERVAL;VALUE=DURATION:PT1H
X-Robots-Tag:noindex
X-PUBLISHED-TTL:PT1H
BEGIN:VTIMEZONE
TZID:UTC
BEGIN:STANDARD
TZOFFSETFROM:+0000
TZOFFSETTO:+0000
TZNAME:UTC
DTSTART:20250101T000000
END:STANDARD
END:VTIMEZONE
BEGIN:VEVENT
DTSTART;TZID=UTC:20260629T090000
DTEND;TZID=UTC:20260703T150000
DTSTAMP:20260421T114023
CREATED:20260306T035615Z
LAST-MODIFIED:20260310T220348Z
UID:2537-1782723600-1783090800@encinitaskarate.com
SUMMARY:American Ninja Challenge Camp Encinitas 2026 (Ages 4–12)
DESCRIPTION:Encinitas Karate’s American Ninja Challenge Camp Encinitas 2026 is an exciting summer camp for kids ages 4–12 in Encinitas\, CA. This high-energy North County San Diego camp features ninja obstacle course challenges\, martial arts drills\, laser tag missions\, team competitions\, and supervised park days at Oak Crest Park. Families from Encinitas\, Carlsbad\, San Elijo Hills\, and surrounding communities choose this camp for its mix of fitness\, confidence building\, teamwork\, and active summer fun. \n👉 Register here: \nTo see current sales and full listing of our spring and summer camp information\, click here \nEagle Crest Ninja and Eagle mascot\, Talon at American Ninja Challenge Camp Encinitas 2026
URL:https://encinitaskarate.com/event/american-ninja-challenge-camp-encinitas-2026-ages-4-12/
LOCATION:Encinitas Karate
CATEGORIES:Camps
ATTACH;FMTTYPE=image/png:https://encinitaskarate.com/wp-content/uploads/2026/03/file_000000000bc4720c9ed6773ff6e49ec8-1.png
END:VEVENT
END:VCALENDAR