BEGIN:VCALENDAR
VERSION:2.0
PRODID:-//Encinitas Karate - ECPv6.15.17.1//NONSGML v1.0//EN
CALSCALE:GREGORIAN
METHOD:PUBLISH
X-WR-CALNAME:Encinitas Karate
X-ORIGINAL-URL:https://encinitaskarate.com
X-WR-CALDESC:Events for Encinitas Karate
REFRESH-INTERVAL;VALUE=DURATION:PT1H
X-Robots-Tag:noindex
X-PUBLISHED-TTL:PT1H
BEGIN:VTIMEZONE
TZID:UTC
BEGIN:STANDARD
TZOFFSETFROM:+0000
TZOFFSETTO:+0000
TZNAME:UTC
DTSTART:20250101T000000
END:STANDARD
END:VTIMEZONE
BEGIN:VEVENT
DTSTART;TZID=UTC:20260622T090000
DTEND;TZID=UTC:20260626T150000
DTSTAMP:20260421T114128
CREATED:20260306T000818Z
LAST-MODIFIED:20260306T000857Z
UID:2528-1782118800-1782486000@encinitaskarate.com
SUMMARY:Brick Masters Academy Camp Encinitas 2026 (Ages 4–12)
DESCRIPTION:Encinitas Karate’s Brick Masters Academy Camp Encinitas 2026 is a hands-on summer camp for kids ages 4–12 in Encinitas\, CA. This North County San Diego camp blends Lego building challenges\, marble run engineering\, fort building\, obstacle courses\, creative projects\, and supervised park days at Oak Crest Park. Families from Encinitas\, Carlsbad\, San Elijo Hills\, and surrounding communities love this camp for its mix of STEM-style learning\, teamwork\, and active summer fun. \n👉 Register here: \nTo see current sales and full listing of our spring and summer camp information\, click here: \nMechanex Ninja and Squig mascot at Brick Masters Academy Camp Encinitas 2026
URL:https://encinitaskarate.com/event/brick-masters-academy-camp-encinitas-2026-ages-4-12/
LOCATION:Encinitas Karate
CATEGORIES:Camps
ATTACH;FMTTYPE=image/png:https://encinitaskarate.com/wp-content/uploads/2026/03/file_000000001e80722f988c50259fea4bb4-1.png
END:VEVENT
END:VCALENDAR